BEGIN:VCALENDAR
VERSION:2.0
PRODID:-//Demme Learning - ECPv6.10.0//NONSGML v1.0//EN
CALSCALE:GREGORIAN
METHOD:PUBLISH
X-ORIGINAL-URL:https://demmelearning.com
X-WR-CALDESC:Events for Demme Learning
REFRESH-INTERVAL;VALUE=DURATION:PT1H
X-Robots-Tag:noindex
X-PUBLISHED-TTL:PT1H
BEGIN:VTIMEZONE
TZID:America/New_York
BEGIN:DAYLIGHT
TZOFFSETFROM:-0500
TZOFFSETTO:-0400
TZNAME:EDT
DTSTART:20230312T070000
END:DAYLIGHT
BEGIN:STANDARD
TZOFFSETFROM:-0400
TZOFFSETTO:-0500
TZNAME:EST
DTSTART:20231105T060000
END:STANDARD
END:VTIMEZONE
BEGIN:VEVENT
DTSTART;VALUE=DATE:20230427
DTEND;VALUE=DATE:20230430
DTSTAMP:20260419T093517
CREATED:20230120T153902Z
LAST-MODIFIED:20240307T144617Z
UID:10000309-1682553600-1682812799@demmelearning.com
SUMMARY:MassHope Homeschool Convention
DESCRIPTION:Convention \nDemme Learning is proud to be an exhibitor at the MassHope Homeschool Convention. Conventions are a great way to ask questions\, browse\, and experience our curriculum. \nTo find out more about registration\, speakers\, and workshops please visit https://masshope.org/convention/
URL:https://demmelearning.com/event/masshope-homeschool-convention/
LOCATION:Sturbridge Host Hotel & Conference Center\, 366 Main Street\, Sturbridge\, MA\, 01566\, United States
CATEGORIES:In Person Events
END:VEVENT
BEGIN:VEVENT
DTSTART;VALUE=DATE:20230428
DTEND;VALUE=DATE:20230430
DTSTAMP:20260419T093517
CREATED:20230120T165530Z
LAST-MODIFIED:20240307T144612Z
UID:10000312-1682640000-1682812799@demmelearning.com
SUMMARY:Christian Heritage Family Discipleship and Homeschooling Conference
DESCRIPTION:Convention \nDemme Learning is proud to be an exhibitor at the Christian Heritage Family Discipleship and Homeschooling Conference. During this convention join speaker Steve Demme as he shares information\, encouragement\, and practical ideas. \nConventions are a great way to ask questions\, browse\, and experience our curriculum. \nTo find out more about registration\, speakers\, and workshops please visit https://christianheritagewa.org/events/2023-spring-conference/
URL:https://demmelearning.com/event/christian-heritage-family-discipleship-and-homeschooling-conference/
LOCATION:New Hope Presbyterian Church\, 19800 108th Ave SE\, Kent\, WA\, 98031\, United States
CATEGORIES:In Person Events
END:VEVENT
END:VCALENDAR