BEGIN:VCALENDAR
VERSION:2.0
PRODID:-//Demme Learning - ECPv6.10.0//NONSGML v1.0//EN
CALSCALE:GREGORIAN
METHOD:PUBLISH
X-ORIGINAL-URL:https://demmelearning.com
X-WR-CALDESC:Events for Demme Learning
REFRESH-INTERVAL;VALUE=DURATION:PT1H
X-Robots-Tag:noindex
X-PUBLISHED-TTL:PT1H
BEGIN:VTIMEZONE
TZID:UTC
BEGIN:STANDARD
TZOFFSETFROM:+0000
TZOFFSETTO:+0000
TZNAME:UTC
DTSTART:20250101T000000
END:STANDARD
END:VTIMEZONE
BEGIN:VEVENT
DTSTART;VALUE=DATE:20250423
DTEND;VALUE=DATE:20250502
DTSTAMP:20260420T132257
CREATED:20210305T213735Z
LAST-MODIFIED:20250115T171611Z
UID:10000181-1745366400-1746143999@demmelearning.com
SUMMARY:IDEA Curriculum Fair (Multiple)
DESCRIPTION:Convention \nDemme Learning is proud to be an exhibitor at the IDEA Curriculum Fair. Fairs are a great way to ask questions\, browse\, and experience our curriculum. \nTo find out more about registration\, speakers\, and workshops please visit their website. \nVisit Their Website
URL:https://demmelearning.com/event/idea-curriculum-fair/
CATEGORIES:In Person Events
ATTACH;FMTTYPE=image/jpeg:https://demmelearning.com/wp-content/uploads/2021/03/idea-banner.jpg
END:VEVENT
END:VCALENDAR