BEGIN:VCALENDAR
VERSION:2.0
PRODID:-//Demme Learning - ECPv6.10.0//NONSGML v1.0//EN
CALSCALE:GREGORIAN
METHOD:PUBLISH
X-ORIGINAL-URL:https://demmelearning.com
X-WR-CALDESC:Events for Demme Learning
REFRESH-INTERVAL;VALUE=DURATION:PT1H
X-Robots-Tag:noindex
X-PUBLISHED-TTL:PT1H
BEGIN:VTIMEZONE
TZID:America/New_York
BEGIN:DAYLIGHT
TZOFFSETFROM:-0500
TZOFFSETTO:-0400
TZNAME:EDT
DTSTART:20250309T070000
END:DAYLIGHT
BEGIN:STANDARD
TZOFFSETFROM:-0400
TZOFFSETTO:-0500
TZNAME:EST
DTSTART:20251102T060000
END:STANDARD
END:VTIMEZONE
BEGIN:VEVENT
DTSTART;VALUE=DATE:20250411
DTEND;VALUE=DATE:20250413
DTSTAMP:20260425T082809
CREATED:20250115T165850Z
LAST-MODIFIED:20250115T180047Z
UID:10000419-1744329600-1744502399@demmelearning.com
SUMMARY:APHEA Homeschool Convention
DESCRIPTION:Convention \nDemme Learning is proud to be an exhibitor at the APHEA Homeschool Convention. Conventions are a great way to ask questions\, browse\, and experience our curriculum. \nTo find out more about registration\, speakers\, and workshops please visit their website. \nVisit Their Website
URL:https://demmelearning.com/event/aphea-homeschool-convention/
LOCATION:Muldoon Community Assembly\, 7041 DeBarr Road\, Anchorage\, AK\, 99504\, United States
CATEGORIES:In Person Events
ATTACH;FMTTYPE=image/jpeg:https://demmelearning.com/wp-content/uploads/2021/01/aphea-banner-2.jpg
END:VEVENT
END:VCALENDAR